BEGIN:VCALENDAR
VERSION:2.0
PRODID:-//Henrico Sports &amp; Entertainment Authority - ECPv6.15.20//NONSGML v1.0//EN
CALSCALE:GREGORIAN
METHOD:PUBLISH
X-WR-CALNAME:Henrico Sports &amp; Entertainment Authority
X-ORIGINAL-URL:https://henricosea.com
X-WR-CALDESC:Events for Henrico Sports &amp; Entertainment Authority
REFRESH-INTERVAL;VALUE=DURATION:PT1H
X-Robots-Tag:noindex
X-PUBLISHED-TTL:PT1H
BEGIN:VTIMEZONE
TZID:America/New_York
BEGIN:DAYLIGHT
TZOFFSETFROM:-0500
TZOFFSETTO:-0400
TZNAME:EDT
DTSTART:20230312T070000
END:DAYLIGHT
BEGIN:STANDARD
TZOFFSETFROM:-0400
TZOFFSETTO:-0500
TZNAME:EST
DTSTART:20231105T060000
END:STANDARD
BEGIN:DAYLIGHT
TZOFFSETFROM:-0500
TZOFFSETTO:-0400
TZNAME:EDT
DTSTART:20240310T070000
END:DAYLIGHT
BEGIN:STANDARD
TZOFFSETFROM:-0400
TZOFFSETTO:-0500
TZNAME:EST
DTSTART:20241103T060000
END:STANDARD
BEGIN:DAYLIGHT
TZOFFSETFROM:-0500
TZOFFSETTO:-0400
TZNAME:EDT
DTSTART:20250309T070000
END:DAYLIGHT
BEGIN:STANDARD
TZOFFSETFROM:-0400
TZOFFSETTO:-0500
TZNAME:EST
DTSTART:20251102T060000
END:STANDARD
END:VTIMEZONE
BEGIN:VEVENT
DTSTART;VALUE=DATE:20240907
DTEND;VALUE=DATE:20240908
DTSTAMP:20260424T102357
CREATED:20240820T105443Z
LAST-MODIFIED:20240820T105920Z
UID:10000095-1725667200-1725753599@henricosea.com
SUMMARY:September Shutdown Archery Tournament
DESCRIPTION:One-day USA Archery-sanctioned tournament run by SpiderShotz in Henrico\, VA.
URL:https://henricosea.com/event/september-shutdown-archery-tournament/
LOCATION:Scott Road Outdoor Athletic Complex\, 490 Scott Road\, Henrico\, VA\, 23227\, United States
END:VEVENT
BEGIN:VEVENT
DTSTART;VALUE=DATE:20240907
DTEND;VALUE=DATE:20240909
DTSTAMP:20260424T102357
CREATED:20240820T102739Z
LAST-MODIFIED:20240820T102739Z
UID:10000093-1725667200-1725839999@henricosea.com
SUMMARY:Perfect Game Chesapeake Fall Elite Championship
DESCRIPTION:Youth baseball tournament  located at multiple fields in Henrico.  See event link for full schedule and updates.
URL:https://henricosea.com/event/perfect-game-chesapeake-fall-elite/
LOCATION:VA
END:VEVENT
BEGIN:VEVENT
DTSTART;VALUE=DATE:20240907
DTEND;VALUE=DATE:20240909
DTSTAMP:20260424T102357
CREATED:20240820T104732Z
LAST-MODIFIED:20240820T104916Z
UID:10000094-1725667200-1725839999@henricosea.com
SUMMARY:Major League Fishing Phoenix Bass Fishing League
DESCRIPTION:Two-day professional bass fishing tournament to be held at Osborne Turnpike.
URL:https://henricosea.com/event/major-league-fishing-phoenix-bass-fishing-league-2/
LOCATION:Osborne Landing\, 9530 Osborne Turnpike\, Henrico\, 23231\, United States
END:VEVENT
BEGIN:VEVENT
DTSTART;VALUE=DATE:20240913
DTEND;VALUE=DATE:20240916
DTSTAMP:20260424T102357
CREATED:20240820T110351Z
LAST-MODIFIED:20240820T111701Z
UID:10000096-1726185600-1726444799@henricosea.com
SUMMARY:PBRT Richmond Fall Championships (Upper class)
DESCRIPTION:Youth baseball tournament located at numerous fields in Henrico.  See tournament link for full schedule.
URL:https://henricosea.com/event/pbrt-richmond-fall-championships-2/
LOCATION:VA
END:VEVENT
BEGIN:VEVENT
DTSTART;VALUE=DATE:20240914
DTEND;VALUE=DATE:20240916
DTSTAMP:20260424T102357
CREATED:20240820T111112Z
LAST-MODIFIED:20240820T111349Z
UID:10000097-1726272000-1726444799@henricosea.com
SUMMARY:ACFL Fall Kickoff/Invitational & Alliance Super Cup Series Stage 1
DESCRIPTION:  \nYouth softball tournament. Visit the event link for schedule and details.
URL:https://henricosea.com/event/acfl-fall-kickoff-invitational-alliance-super-cup-series-stage-1/
LOCATION:Glen Allen Softball Complex\, 2175 Mountain Rd.\, Glen Allen\, VA\, 23060\, United States
END:VEVENT
BEGIN:VEVENT
DTSTART;VALUE=DATE:20240920
DTEND;VALUE=DATE:20240923
DTSTAMP:20260424T102357
CREATED:20240820T111627Z
LAST-MODIFIED:20240820T111627Z
UID:10000098-1726790400-1727049599@henricosea.com
SUMMARY:PBRT Richmond Fall Championships (Underclass)
DESCRIPTION:Youth baseball tournament located at numerous fields in Henrico.  See tournament link for full schedule.
URL:https://henricosea.com/event/pbrt-richmond-fall-championships-underclass/
LOCATION:VA
END:VEVENT
BEGIN:VEVENT
DTSTART;VALUE=DATE:20240921
DTEND;VALUE=DATE:20240923
DTSTAMP:20260424T102357
CREATED:20240820T112346Z
LAST-MODIFIED:20240820T112440Z
UID:10000099-1726876800-1727049599@henricosea.com
SUMMARY:686 Volley Bash at the Beach
DESCRIPTION:Adult volleyball tournament at Glover Park sand beach volleyball courts.
URL:https://henricosea.com/event/686-volley-bash-at-the-beach/
LOCATION:Glover Park\, 11217 Greenwood Road\, Henrico\, 23059\, United States
END:VEVENT
BEGIN:VEVENT
DTSTART;VALUE=DATE:20240921
DTEND;VALUE=DATE:20240923
DTSTAMP:20260424T102357
CREATED:20240820T112557Z
LAST-MODIFIED:20240820T113041Z
UID:10000100-1726876800-1727049599@henricosea.com
SUMMARY:Legendary Softball Fabulous 40  Fall Frenzy Tournament
DESCRIPTION:  \nYouth softball tournament
URL:https://henricosea.com/event/legendary-softball-fabulous-fall-40/
LOCATION:Glen Allen Softball Complex\, 2175 Mountain Rd.\, Glen Allen\, VA\, 23060\, United States
END:VEVENT
BEGIN:VEVENT
DTSTART;VALUE=DATE:20240927
DTEND;VALUE=DATE:20240930
DTSTAMP:20260424T102357
CREATED:20240820T155147Z
LAST-MODIFIED:20240820T155323Z
UID:10000101-1727395200-1727654399@henricosea.com
SUMMARY:PBRT Richmond Fall Classic
DESCRIPTION:Youth baseball tournament located at numerous fields in Henrico.  See tournament link for full schedule.
URL:https://henricosea.com/event/pbrt-richmond-fall-classic/
LOCATION:VA
END:VEVENT
BEGIN:VEVENT
DTSTART;VALUE=DATE:20240928
DTEND;VALUE=DATE:20240930
DTSTAMP:20260424T102357
CREATED:20240820T155810Z
LAST-MODIFIED:20240820T160120Z
UID:10000102-1727481600-1727654399@henricosea.com
SUMMARY:USA Softball Virginia Fall State Championships
DESCRIPTION:Youth softball tournament. See event link for tournament schedule and details.
URL:https://henricosea.com/event/usa-softball-virginia-fall-state-championships/
LOCATION:Glen Allen Softball Complex\, 2175 Mountain Rd.\, Glen Allen\, VA\, 23060\, United States
END:VEVENT
END:VCALENDAR