BEGIN:VCALENDAR
VERSION:2.0
PRODID:-//Henrico Sports &amp; Entertainment Authority - ECPv6.15.20//NONSGML v1.0//EN
CALSCALE:GREGORIAN
METHOD:PUBLISH
X-WR-CALNAME:Henrico Sports &amp; Entertainment Authority
X-ORIGINAL-URL:https://henricosea.com
X-WR-CALDESC:Events for Henrico Sports &amp; Entertainment Authority
REFRESH-INTERVAL;VALUE=DURATION:PT1H
X-Robots-Tag:noindex
X-PUBLISHED-TTL:PT1H
BEGIN:VTIMEZONE
TZID:America/New_York
BEGIN:DAYLIGHT
TZOFFSETFROM:-0500
TZOFFSETTO:-0400
TZNAME:EDT
DTSTART:20230312T070000
END:DAYLIGHT
BEGIN:STANDARD
TZOFFSETFROM:-0400
TZOFFSETTO:-0500
TZNAME:EST
DTSTART:20231105T060000
END:STANDARD
BEGIN:DAYLIGHT
TZOFFSETFROM:-0500
TZOFFSETTO:-0400
TZNAME:EDT
DTSTART:20240310T070000
END:DAYLIGHT
BEGIN:STANDARD
TZOFFSETFROM:-0400
TZOFFSETTO:-0500
TZNAME:EST
DTSTART:20241103T060000
END:STANDARD
BEGIN:DAYLIGHT
TZOFFSETFROM:-0500
TZOFFSETTO:-0400
TZNAME:EDT
DTSTART:20250309T070000
END:DAYLIGHT
BEGIN:STANDARD
TZOFFSETFROM:-0400
TZOFFSETTO:-0500
TZNAME:EST
DTSTART:20251102T060000
END:STANDARD
END:VTIMEZONE
BEGIN:VEVENT
DTSTART;VALUE=DATE:20240601
DTEND;VALUE=DATE:20240603
DTSTAMP:20260424T102657
CREATED:20240514T145752Z
LAST-MODIFIED:20240514T150227Z
UID:10000061-1717200000-1717372799@henricosea.com
SUMMARY:Perfect Game Sunshine Mid-Atlantic Showcase
DESCRIPTION:Elite-level youth baseball showcase including player workouts and drills on Saturday and games on Sunday.
URL:https://henricosea.com/event/perfect-game-sunshine-mid-atlantic-showcase/
LOCATION:Tuckahoe Little League Field #9\, 2400 Little League Dr\, Henrico\, VA\, 23233\, United States
END:VEVENT
BEGIN:VEVENT
DTSTART;VALUE=DATE:20240601
DTEND;VALUE=DATE:20240603
DTSTAMP:20260424T102657
CREATED:20240514T144856Z
LAST-MODIFIED:20240514T145333Z
UID:10000060-1717200000-1717372799@henricosea.com
SUMMARY:Starz Gold ACFL Summer Starter
DESCRIPTION:12U – 18U youth softball tournament
URL:https://henricosea.com/event/starz-gold-acfl-summer-starter/
LOCATION:Dorey Park\, 2999 Darbytown Road\, Henrico\, VA\, 23231\, United States
END:VEVENT
BEGIN:VEVENT
DTSTART;VALUE=DATE:20240601
DTEND;VALUE=DATE:20240603
DTSTAMP:20260424T102657
CREATED:20240514T142946Z
LAST-MODIFIED:20240514T143843Z
UID:10000059-1717200000-1717372799@henricosea.com
SUMMARY:Nike Spring Classic
DESCRIPTION:Richmond Strikers soccer tournament at Glover Park\, Capital Park and Henrico High School.
URL:https://henricosea.com/event/nike-spring-classic/
LOCATION:Glover Park\, 11217 Greenwood Road\, Henrico\, 23059\, United States
END:VEVENT
BEGIN:VEVENT
DTSTART;VALUE=DATE:20240529
DTEND;VALUE=DATE:20240601
DTSTAMP:20260424T102657
CREATED:20240510T163533Z
LAST-MODIFIED:20240522T154123Z
UID:10000058-1716940800-1717199999@henricosea.com
SUMMARY:HCPS Graduations
DESCRIPTION:See schedule and detailed parking and FAQ information on the official Henrico County Public Schools Graduation Hub. \nParking Map for Graduations \nGraduation FAQ \n  \ns
URL:https://henricosea.com/event/hcps-graduations/
LOCATION:Henrico Sports & Events Center\, 1 All Star Boulevard\, Glen Allen\, VA\, 23059\, United States
END:VEVENT
BEGIN:VEVENT
DTSTART;VALUE=DATE:20240525
DTEND;VALUE=DATE:20240528
DTSTAMP:20260424T102657
CREATED:20240514T154341Z
LAST-MODIFIED:20240514T154634Z
UID:10000065-1716595200-1716854399@henricosea.com
SUMMARY:ECNL Boy's National Event
DESCRIPTION:Large youth soccer tournament with nearly 150 teams registered.
URL:https://henricosea.com/event/ecnl-boys-national-event/
LOCATION:Dorey Park\, 2999 Darbytown Road\, Henrico\, VA\, 23231\, United States
END:VEVENT
BEGIN:VEVENT
DTSTART;VALUE=DATE:20240518
DTEND;VALUE=DATE:20240520
DTSTAMP:20260424T102657
CREATED:20240514T154853Z
LAST-MODIFIED:20240514T155055Z
UID:10000066-1715990400-1716163199@henricosea.com
SUMMARY:PBRT Youth World Series
DESCRIPTION:
URL:https://henricosea.com/event/pbrt-youth-world-series/
LOCATION:Glen Allen Softball Complex\, 2175 Mountain Rd.\, Glen Allen\, VA\, 23060\, United States
END:VEVENT
BEGIN:VEVENT
DTSTART;VALUE=DATE:20240517
DTEND;VALUE=DATE:20240520
DTSTAMP:20260424T102657
CREATED:20240514T152131Z
LAST-MODIFIED:20240514T152645Z
UID:10000064-1715904000-1716163199@henricosea.com
SUMMARY:6th Annual VA Pickleball Classic
DESCRIPTION:Pickleball tournament for all ages.
URL:https://henricosea.com/event/6th-annual-va-pickleball-classic/
LOCATION:Pouncey Tract Park\, 4747 Pouncey Tract Rd\, Glen Allen\, VA\, 23059\, United States
END:VEVENT
BEGIN:VEVENT
DTSTART;VALUE=DATE:20240511
DTEND;VALUE=DATE:20240513
DTSTAMP:20260424T102657
CREATED:20240418T161834Z
LAST-MODIFIED:20240418T162312Z
UID:10000055-1715385600-1715558399@henricosea.com
SUMMARY:Perfect Game Chesapeake Super NIT/PGI Qualifier
DESCRIPTION:  \n12U Baseball Tournament
URL:https://henricosea.com/event/perfect-game-chesapeake-super-nit-pgi-qualifier/
LOCATION:Dorey Park\, 2999 Darbytown Road\, Henrico\, VA\, 23231\, United States
END:VEVENT
BEGIN:VEVENT
DTSTART;VALUE=DATE:20240511
DTEND;VALUE=DATE:20240513
DTSTAMP:20260424T102657
CREATED:20240418T161011Z
LAST-MODIFIED:20240418T161210Z
UID:10000054-1715385600-1715558399@henricosea.com
SUMMARY:6EightSix Grass Volley
DESCRIPTION:Grass Volleyball Tournament
URL:https://henricosea.com/event/6eightsix-grass-volley/
LOCATION:Laurel Park\, 10301 Hungary Spring Road\, Glen Allen\, VA\, 23060\, United States
END:VEVENT
BEGIN:VEVENT
DTSTART;VALUE=DATE:20240504
DTEND;VALUE=DATE:20240506
DTSTAMP:20260424T102657
CREATED:20240415T141539Z
LAST-MODIFIED:20240415T141826Z
UID:10000053-1714780800-1714953599@henricosea.com
SUMMARY:USA Ultimate Atlantic Coast Dev College Men's Regionals
DESCRIPTION:Regional Championship Tournament
URL:https://henricosea.com/event/usa-ultimate-atlantic-coast-dev-college-mens-regionals/
LOCATION:Glover Park\, 11217 Greenwood Road\, Henrico\, 23059\, United States
END:VEVENT
BEGIN:VEVENT
DTSTART;VALUE=DATE:20240503
DTEND;VALUE=DATE:20240506
DTSTAMP:20260424T102657
CREATED:20240415T141128Z
LAST-MODIFIED:20240415T141303Z
UID:10000052-1714694400-1714953599@henricosea.com
SUMMARY:PBT Evolution Series
DESCRIPTION:10U – 13U baseball tournament
URL:https://henricosea.com/event/pbt-evolution-series/
LOCATION:Dorey Park\, 2999 Darbytown Road\, Henrico\, VA\, 23231\, United States
END:VEVENT
BEGIN:VEVENT
DTSTART;VALUE=DATE:20240502
DTEND;VALUE=DATE:20240506
DTSTAMP:20260424T102657
CREATED:20240415T140619Z
LAST-MODIFIED:20240415T140736Z
UID:10000051-1714608000-1714953599@henricosea.com
SUMMARY:CIAA Softball Championship
DESCRIPTION:
URL:https://henricosea.com/event/ciaa-softball-championship-2/
LOCATION:RF&P Park\, 3400 Mountain Rd\, Glen Allen\, VA\, 23060
END:VEVENT
BEGIN:VEVENT
DTSTART;VALUE=DATE:20240427
DTEND;VALUE=DATE:20240429
DTSTAMP:20260424T102657
CREATED:20240410T181547Z
LAST-MODIFIED:20240410T183049Z
UID:10000049-1714176000-1714348799@henricosea.com
SUMMARY:Super25 Chesapeake Regional Championship
DESCRIPTION:Travel ball tournament held by Perfect Game at Dorey Park and Glen Allen Sports Complex.
URL:https://henricosea.com/event/super25-chesapeake-regional-championship/
LOCATION:Dorey Park\, 2999 Darbytown Road\, Henrico\, VA\, 23231\, United States
END:VEVENT
BEGIN:VEVENT
DTSTART;VALUE=DATE:20240427
DTEND;VALUE=DATE:20240428
DTSTAMP:20260424T102657
CREATED:20240410T182329Z
LAST-MODIFIED:20240410T183021Z
UID:10000050-1714176000-1714262399@henricosea.com
SUMMARY:Phantom Outdoors Open
DESCRIPTION:Fishing tournament at Osborne Landing in Henrico\, VA.
URL:https://henricosea.com/event/phantom-outdoors-open/
LOCATION:Osborne Landing\, 9530 Osborne Turnpike\, Henrico\, 23231\, United States
END:VEVENT
END:VCALENDAR