BEGIN:VCALENDAR
VERSION:2.0
PRODID:-//Henrico Sports &amp; Entertainment Authority - ECPv6.15.20//NONSGML v1.0//EN
CALSCALE:GREGORIAN
METHOD:PUBLISH
X-WR-CALNAME:Henrico Sports &amp; Entertainment Authority
X-ORIGINAL-URL:https://henricosea.com
X-WR-CALDESC:Events for Henrico Sports &amp; Entertainment Authority
REFRESH-INTERVAL;VALUE=DURATION:PT1H
X-Robots-Tag:noindex
X-PUBLISHED-TTL:PT1H
BEGIN:VTIMEZONE
TZID:America/New_York
BEGIN:DAYLIGHT
TZOFFSETFROM:-0500
TZOFFSETTO:-0400
TZNAME:EDT
DTSTART:20250309T070000
END:DAYLIGHT
BEGIN:STANDARD
TZOFFSETFROM:-0400
TZOFFSETTO:-0500
TZNAME:EST
DTSTART:20251102T060000
END:STANDARD
BEGIN:DAYLIGHT
TZOFFSETFROM:-0500
TZOFFSETTO:-0400
TZNAME:EDT
DTSTART:20260308T070000
END:DAYLIGHT
BEGIN:STANDARD
TZOFFSETFROM:-0400
TZOFFSETTO:-0500
TZNAME:EST
DTSTART:20261101T060000
END:STANDARD
BEGIN:DAYLIGHT
TZOFFSETFROM:-0500
TZOFFSETTO:-0400
TZNAME:EDT
DTSTART:20270314T070000
END:DAYLIGHT
BEGIN:STANDARD
TZOFFSETFROM:-0400
TZOFFSETTO:-0500
TZNAME:EST
DTSTART:20271107T060000
END:STANDARD
END:VTIMEZONE
BEGIN:VEVENT
DTSTART;VALUE=DATE:20260228
DTEND;VALUE=DATE:20260302
DTSTAMP:20260423T043613
CREATED:20260121T195512Z
LAST-MODIFIED:20260121T195859Z
UID:10000227-1772236800-1772409599@henricosea.com
SUMMARY:Richmond United Ultimate Cup
DESCRIPTION:The 2026 Ultimate Cup is back February 28 – March 1\, 2026 at Glover Park. \n  \n 
URL:https://henricosea.com/event/richmond-united-ultimate-cup/
LOCATION:Glover Park\, 11217 Greenwood Road\, Henrico\, 23059\, United States
END:VEVENT
BEGIN:VEVENT
DTSTART;VALUE=DATE:20260228
DTEND;VALUE=DATE:20260302
DTSTAMP:20260423T043613
CREATED:20260121T201851Z
LAST-MODIFIED:20260121T201851Z
UID:10000228-1772236800-1772409599@henricosea.com
SUMMARY:Adult Softball TNT
DESCRIPTION:
URL:https://henricosea.com/event/adult-softball-tnt/
LOCATION:Glen Allen Softball Complex\, 2175 Mountain Rd.\, Glen Allen\, VA\, 23060\, United States
END:VEVENT
END:VCALENDAR