BEGIN:VCALENDAR
VERSION:2.0
PRODID:-//Henrico Sports &amp; Entertainment Authority - ECPv6.15.20//NONSGML v1.0//EN
CALSCALE:GREGORIAN
METHOD:PUBLISH
X-WR-CALNAME:Henrico Sports &amp; Entertainment Authority
X-ORIGINAL-URL:https://henricosea.com
X-WR-CALDESC:Events for Henrico Sports &amp; Entertainment Authority
REFRESH-INTERVAL;VALUE=DURATION:PT1H
X-Robots-Tag:noindex
X-PUBLISHED-TTL:PT1H
BEGIN:VTIMEZONE
TZID:America/New_York
BEGIN:DAYLIGHT
TZOFFSETFROM:-0500
TZOFFSETTO:-0400
TZNAME:EDT
DTSTART:20240310T070000
END:DAYLIGHT
BEGIN:STANDARD
TZOFFSETFROM:-0400
TZOFFSETTO:-0500
TZNAME:EST
DTSTART:20241103T060000
END:STANDARD
BEGIN:DAYLIGHT
TZOFFSETFROM:-0500
TZOFFSETTO:-0400
TZNAME:EDT
DTSTART:20250309T070000
END:DAYLIGHT
BEGIN:STANDARD
TZOFFSETFROM:-0400
TZOFFSETTO:-0500
TZNAME:EST
DTSTART:20251102T060000
END:STANDARD
BEGIN:DAYLIGHT
TZOFFSETFROM:-0500
TZOFFSETTO:-0400
TZNAME:EDT
DTSTART:20260308T070000
END:DAYLIGHT
BEGIN:STANDARD
TZOFFSETFROM:-0400
TZOFFSETTO:-0500
TZNAME:EST
DTSTART:20261101T060000
END:STANDARD
END:VTIMEZONE
BEGIN:VEVENT
DTSTART;VALUE=DATE:20250823
DTEND;VALUE=DATE:20250825
DTSTAMP:20260425T062750
CREATED:20250730T154027Z
LAST-MODIFIED:20250730T154211Z
UID:10000191-1755907200-1756079999@henricosea.com
SUMMARY:MLF Phoenix Bass Fishing League Regional - James River
DESCRIPTION:Two-day fishing tournament at Osborne Landing in Henrico\, VA. Follow the event link for official information.
URL:https://henricosea.com/event/mlf-bass-fishing-league-regional-james-river/
LOCATION:Osborne Landing\, 9530 Osborne Turnpike\, Henrico\, 23231\, United States
END:VEVENT
END:VCALENDAR