BEGIN:VCALENDAR
VERSION:2.0
PRODID:-//Henrico Sports &amp; Entertainment Authority - ECPv6.15.20//NONSGML v1.0//EN
CALSCALE:GREGORIAN
METHOD:PUBLISH
X-WR-CALNAME:Henrico Sports &amp; Entertainment Authority
X-ORIGINAL-URL:https://henricosea.com
X-WR-CALDESC:Events for Henrico Sports &amp; Entertainment Authority
REFRESH-INTERVAL;VALUE=DURATION:PT1H
X-Robots-Tag:noindex
X-PUBLISHED-TTL:PT1H
BEGIN:VTIMEZONE
TZID:America/New_York
BEGIN:DAYLIGHT
TZOFFSETFROM:-0500
TZOFFSETTO:-0400
TZNAME:EDT
DTSTART:20230312T070000
END:DAYLIGHT
BEGIN:STANDARD
TZOFFSETFROM:-0400
TZOFFSETTO:-0500
TZNAME:EST
DTSTART:20231105T060000
END:STANDARD
BEGIN:DAYLIGHT
TZOFFSETFROM:-0500
TZOFFSETTO:-0400
TZNAME:EDT
DTSTART:20240310T070000
END:DAYLIGHT
BEGIN:STANDARD
TZOFFSETFROM:-0400
TZOFFSETTO:-0500
TZNAME:EST
DTSTART:20241103T060000
END:STANDARD
BEGIN:DAYLIGHT
TZOFFSETFROM:-0500
TZOFFSETTO:-0400
TZNAME:EDT
DTSTART:20250309T070000
END:DAYLIGHT
BEGIN:STANDARD
TZOFFSETFROM:-0400
TZOFFSETTO:-0500
TZNAME:EST
DTSTART:20251102T060000
END:STANDARD
END:VTIMEZONE
BEGIN:VEVENT
DTSTART;VALUE=DATE:20240427
DTEND;VALUE=DATE:20240429
DTSTAMP:20260421T090409
CREATED:20240410T181547Z
LAST-MODIFIED:20240410T183049Z
UID:10000049-1714176000-1714348799@henricosea.com
SUMMARY:Super25 Chesapeake Regional Championship
DESCRIPTION:Travel ball tournament held by Perfect Game at Dorey Park and Glen Allen Sports Complex.
URL:https://henricosea.com/event/super25-chesapeake-regional-championship/
LOCATION:Dorey Park\, 2999 Darbytown Road\, Henrico\, VA\, 23231\, United States
END:VEVENT
END:VCALENDAR